BEGIN:VCALENDAR
VERSION:2.0
PRODID:-//OK Cares - ECPv6.15.11//NONSGML v1.0//EN
CALSCALE:GREGORIAN
METHOD:PUBLISH
X-WR-CALNAME:OK Cares
X-ORIGINAL-URL:https://okcares.org
X-WR-CALDESC:Events for OK Cares
REFRESH-INTERVAL;VALUE=DURATION:PT1H
X-Robots-Tag:noindex
X-PUBLISHED-TTL:PT1H
BEGIN:VTIMEZONE
TZID:UTC
BEGIN:STANDARD
TZOFFSETFROM:+0000
TZOFFSETTO:+0000
TZNAME:UTC
DTSTART:20250101T000000
END:STANDARD
END:VTIMEZONE
BEGIN:VEVENT
DTSTART;TZID=UTC:20260423T100000
DTEND;TZID=UTC:20260423T160000
DTSTAMP:20260423T125130
CREATED:20260326T170255Z
LAST-MODIFIED:20260326T173426Z
UID:5652-1776938400-1776960000@okcares.org
SUMMARY:Life & Legacy Health & Wellness Expo
DESCRIPTION:
URL:https://okcares.org/event/life-legacy-health-wellness-expo/
LOCATION:Elk City Convention Center\, 1016 Airport Industrial\, Elk City\, OK\, 73648\, United States
ATTACH;FMTTYPE=image/png:https://okcares.org/wp-content/uploads/Life-Legacy-Save-The-Date.png
END:VEVENT
BEGIN:VEVENT
DTSTART;VALUE=DATE:20260424
DTEND;VALUE=DATE:20260427
DTSTAMP:20260423T125130
CREATED:20260327T202355Z
LAST-MODIFIED:20260327T205538Z
UID:5705-1776988800-1777247999@okcares.org
SUMMARY:Sibling Camp
DESCRIPTION:AHHHHH!!! Sibling Camp Interest forms are NOW OPEN! Hello families\, \nWe’re excited to announce that the 2026 Sibling Camp will take place on April 24-26 at Camp Trivera in Oklahoma City! This fun and inclusive weekend is designed for siblings of individuals with intellectual/developmental disabilities to connect with their siblings\, build friendships\, and enjoy creative activities. \nCamp Dates: April 24–26 \nLocation: Camp Trivera 2508 NE 50th St\, Oklahoma City\, OK 73111 \nEligibility Requirements: \n\nSiblings with I/DD: ages 8–25\nSiblings without special needs: ages 8–16\n\nCamp activities include swimming\, dance parties\, fishing\, stargazing\, nature walks\, arts and crafts\, STEM activities\, and much more—all in a supportive and fun environment! \nLink to register: https://form.jotform.com/241906635792061 \nIf you know a sibling who would enjoy this experience\, please complete the interest form using the QR code on the flyer or contact us for more information. \nQuestions?\n405‑271‑2710\nsooner-success@ouhsc.edu \nWe hope to see you there!\n— The Sooner SUCCESS Team
URL:https://okcares.org/event/5705/
LOCATION:Camp Trivera\, 2508 NE 50th St\, Oklahoma City\, OK\, 73111\, United States
ATTACH;FMTTYPE=image/jpeg:https://okcares.org/wp-content/uploads/Sib-Camp-April.jpg
END:VEVENT
BEGIN:VEVENT
DTSTART;TZID=UTC:20260424T090000
DTEND;TZID=UTC:20260424T150000
DTSTAMP:20260423T125130
CREATED:20260326T154604Z
LAST-MODIFIED:20260326T162515Z
UID:5628-1777021200-1777042800@okcares.org
SUMMARY:Training for Caregivers and Older Adults Raising Children
DESCRIPTION:
URL:https://okcares.org/event/training-for-caregivers-and-older-adults-raising-children/
LOCATION:Moore Public Library\, 225 S Howard Ave\, Moore\, OK\, 73160\, United States
ATTACH;FMTTYPE=image/jpeg:https://okcares.org/wp-content/uploads/Aging-Services-Training-1.jpg
END:VEVENT
BEGIN:VEVENT
DTSTART;TZID=UTC:20260424T180000
DTEND;TZID=UTC:20260424T200000
DTSTAMP:20260423T125130
CREATED:20260327T193604Z
LAST-MODIFIED:20260327T193604Z
UID:5693-1777053600-1777060800@okcares.org
SUMMARY:Art with Tracy at The Well
DESCRIPTION:Join art instructor Tracy in this adult/young adult class that covers techniques and methods for using watercolors\, drawing mediums\, and more. \nClasses are on April 3 from 10 a.m. to noon\, and April 24 from 6-8 p.m. Supplies are provided. \nSign up online at thewellok.org/all-classes/
URL:https://okcares.org/event/art-with-tracy-at-the-well-2/
LOCATION:The Well\, 210 James Garner Ave\, Norman\, OK\, 73069\, United States
ATTACH;FMTTYPE=image/jpeg:https://okcares.org/wp-content/uploads/Art-at-The-Well.jpg
END:VEVENT
BEGIN:VEVENT
DTSTART;TZID=UTC:20260428T100000
DTEND;TZID=UTC:20260428T120000
DTSTAMP:20260423T125130
CREATED:20260327T210021Z
LAST-MODIFIED:20260327T210021Z
UID:5736-1777370400-1777377600@okcares.org
SUMMARY:OKEQ Seniors
DESCRIPTION:OKEQ Senior’s \nOKEQ Seniors is a daytime program for LGBTQ+ elders. The program supports LGBT elders and meets every Tuesday morning at 10:00 am at the Dennis R. Neill Equality Center. \nTogether with its members and allies\, OKEQ Seniors works towards ensuring a high quality of life for older LGBT adults\, advocating for their rights\, and promoting positive images of LGBT life in later years.
URL:https://okcares.org/event/okeq-seniors-4/
LOCATION:Dennis R. Neil Equality Center\, 621 E 4th St\, Tulsa\, OK\, 74120\, United States
ATTACH;FMTTYPE=image/jpeg:https://okcares.org/wp-content/uploads/OKEQ-Seniors.jpg
END:VEVENT
BEGIN:VEVENT
DTSTART;TZID=UTC:20260429T090000
DTEND;TZID=UTC:20260429T140000
DTSTAMP:20260423T125130
CREATED:20260327T200855Z
LAST-MODIFIED:20260327T201004Z
UID:5700-1777453200-1777471200@okcares.org
SUMMARY:Sooner SUCCESS on the Road
DESCRIPTION:Sooner SUCCESS is going On the Road! Please share with families and providers you know in the Durant/Bryan County area. \nThe On the Road is a free conference for parents of children with special needs/special heath care needs and those that serve them (teachers\, providers\, etc.). \nCome learn what services/supports are available. Please register here: https://form.jotform.com/260318305093148
URL:https://okcares.org/event/sooner-success-on-the-road/
LOCATION:Donald W. Reynolds Community Center & Library\, 1515 W Main\, Durant\, OK\, 74701\, United States
ATTACH;FMTTYPE=image/jpeg:https://okcares.org/wp-content/uploads/SS-OTR.jpg
END:VEVENT
BEGIN:VEVENT
DTSTART;TZID=UTC:20260429T090000
DTEND;TZID=UTC:20260429T150000
DTSTAMP:20260423T125130
CREATED:20260326T163658Z
LAST-MODIFIED:20260326T163825Z
UID:5648-1777453200-1777474800@okcares.org
SUMMARY:Training for Caregivers and Older Adults Raising Children
DESCRIPTION:
URL:https://okcares.org/event/training-for-caregivers-and-older-adults-raising-children-2/
LOCATION:Mustang Senior Center\, 1201 N Mustang Rd\, Mustang\, 73064\, United States
ATTACH;FMTTYPE=image/jpeg:https://okcares.org/wp-content/uploads/Aging-Services-Training-1.jpg
END:VEVENT
BEGIN:VEVENT
DTSTART;TZID=UTC:20260507T173000
DTEND;TZID=UTC:20260507T203000
DTSTAMP:20260423T125130
CREATED:20260420T174137Z
LAST-MODIFIED:20260420T174137Z
UID:5796-1778175000-1778185800@okcares.org
SUMMARY:
DESCRIPTION:We invite you to join us for our Third Annual Adaptive Sports Expo on Thursday\, May 7th from 5:30 PM – 8:30 PM at Santa Fe Family Life Center (SFFLC)! \nCome on out with friends and family to explore the world of adaptive and accessible wellness in Oklahoma. \nParticipate in hands-on demonstrations\, cheer on adaptive athletes\, enjoy energizing halftime shows\, and immerse yourself in the Kid’s Zone.  \n\n\n\n\n\n\n\n\n\n\n\n\n\n\n\n\n\n\n\n\n\n\n\n\n\n\nFor just $5\, learn more about adaptive fitness and wellness\, while supporting the place where every body belongs.  \n\n\n\n\n\n\n\n\n\n\n\n\n\n\n\n\n\n\n\n\n\n\n\n\n\n\nThis year’s expo will include: \n\n\n\n\n\n\n\n\n\n\n\n\n\n\n\n\n\n\n\n\n\n\n\n\n\n\n\nWheelchair Basketball\nGoal Ball (blindfolded)\nPower Soccer Demo\nKid’s Zone with Bubble Artists\, Face Painting\, Inflatable Obstacle Course\, and Adaptive Pickleball\nConcession Stand with Delicious Snacks\nTours of Santa Fe Family Life Center
URL:https://okcares.org/event/5796/
LOCATION:Santa Fe Family Life Center\, 6300 N Santa Fe Ave\, Oklahoma City\, OK\, 73118\, United States
ATTACH;FMTTYPE=image/png:https://okcares.org/wp-content/uploads/ASE-Flyer-26.png
END:VEVENT
BEGIN:VEVENT
DTSTART;TZID=UTC:20260516T080000
DTEND;TZID=UTC:20260516T110000
DTSTAMP:20260423T125130
CREATED:20260327T202824Z
LAST-MODIFIED:20260327T203605Z
UID:5711-1778918400-1778929200@okcares.org
SUMMARY:2026 Walk for Wellness and 5K Fun Run
DESCRIPTION:Join us for a Walk for Wellness and 5K Fun Run through Rt. 66 Park at Lake Overholser. Registered runners will receive a T-shirt and medal\, and registered walkers will receive a T-shirt. These events are open to patients and non-patients\, with the walk and health fair at no cost and the 5K Fun Run includes a small fee. Everyone will have the opportunity to receive information from community partners in the Oklahoma City metro and participate in a health fair and cultural activities. One of our event objectives is to educate our participants on developing and maintaining a healthy lifestyle. We provide water at the event to encourage participants to remain hydrated and promote healthy beverages\, as well as a healthy snack to promote healthy eating after working out. \nThe walk\, health fair and cultural activities are at no cost. Register by April 24\, 2026\, to receive a FREE T-shirt. Same-day registrations for either the walk for 5K Fun Run are not guaranteed a T-shirt. You must sign up 30 minutes before the start of either the walk or the 5K Fun Run to get credit for participation. The 5K Fun Run fee is $30 (plus processing fee)\, which includes a medal and T-shirt. \nGet SET participants can earn an extra TWO POINTS towards Get SET by registering and attending the Walk for Wellness and 5K Fun Run. You will sign in with your code name at the BRAID/STAR booth during the health fair portion of the event. \nRegister today and learn more at: https://buff.ly/mHU1NpT.\nFor questions\, call (405) 948-4900 ext. 618.
URL:https://okcares.org/event/5711/
LOCATION:Rt. 66 Park at Lake Overholser\, 9901 NW 23rd St\, Yukon\, OK\, 73099\, United States
ATTACH;FMTTYPE=image/jpeg:https://okcares.org/wp-content/uploads/Fun-Run.jpg
END:VEVENT
BEGIN:VEVENT
DTSTART;TZID=UTC:20260530T100000
DTEND;TZID=UTC:20260530T120000
DTSTAMP:20260423T125130
CREATED:20260408T235323Z
LAST-MODIFIED:20260408T235323Z
UID:5784-1780135200-1780142400@okcares.org
SUMMARY:Stroke Walk & Roll
DESCRIPTION:
URL:https://okcares.org/event/stroke-walk-roll/
LOCATION:Jackson Park\, 4800 W Washington St S\, Broken Arrow\, OK\, 74012\, United States
ATTACH;FMTTYPE=image/png:https://okcares.org/wp-content/uploads/Stroke-Walk-Roll-Event-Flyer.png
END:VEVENT
BEGIN:VEVENT
DTSTART;VALUE=DATE:20260608
DTEND;VALUE=DATE:20260613
DTSTAMP:20260423T125130
CREATED:20260327T211817Z
LAST-MODIFIED:20260327T212323Z
UID:5750-1780876800-1781308799@okcares.org
SUMMARY:Camp Commonground - Inclusive Day Camp
DESCRIPTION:CAMP COMMONGROUND\nBuilding Character. Building Community. \nJoin us for a daycamp experience unlike any other! Camp Commonground is designed to provide life-changing experiences for campers with disabilities and their non-disabled peers in a safe\, welcoming\, and accessible environment! \nCamps will run in four week-long sessions- register for one or all four! Camp days will run from 9:00 am–3:00 pm\, Monday–Friday\, and include activities such as swimming\, archery\, axe throwing\, waterfront\, outdoor education\, and more!
URL:https://okcares.org/event/camp-commonground-inclusive-day-camp/
LOCATION:Camp Twin Cedars\, 1 Twin Cedar Ln\, Guthrie\, 73044\, United States
ATTACH;FMTTYPE=image/jpeg:https://okcares.org/wp-content/uploads/Summer-Camp.jpg
END:VEVENT
BEGIN:VEVENT
DTSTART;VALUE=DATE:20260615
DTEND;VALUE=DATE:20260620
DTSTAMP:20260423T125130
CREATED:20260327T212050Z
LAST-MODIFIED:20260327T212422Z
UID:5755-1781481600-1781913599@okcares.org
SUMMARY:Camp Commonground - Inclusive Day Camp
DESCRIPTION:CAMP COMMONGROUND\nBuilding Character. Building Community. \nJoin us for a daycamp experience unlike any other! Camp Commonground is designed to provide life-changing experiences for campers with disabilities and their non-disabled peers in a safe\, welcoming\, and accessible environment! \nCamps will run in four week-long sessions- register for one or all four! Camp days will run from 9:00 am–3:00 pm\, Monday–Friday\, and include activities such as swimming\, archery\, axe throwing\, waterfront\, outdoor education\, and more!
URL:https://okcares.org/event/camp-commonground-inclusive-day-camp-2/
LOCATION:Camp Twin Cedars\, 1 Twin Cedar Ln\, Guthrie\, 73044\, United States
ATTACH;FMTTYPE=image/jpeg:https://okcares.org/wp-content/uploads/Summer-Camp.jpg
END:VEVENT
BEGIN:VEVENT
DTSTART;VALUE=DATE:20260622
DTEND;VALUE=DATE:20260627
DTSTAMP:20260423T125130
CREATED:20260327T212243Z
LAST-MODIFIED:20260327T212504Z
UID:5757-1782086400-1782518399@okcares.org
SUMMARY:Camp Commonground - Inclusive Day Camp
DESCRIPTION:CAMP COMMONGROUND\nBuilding Character. Building Community. \nJoin us for a daycamp experience unlike any other! Camp Commonground is designed to provide life-changing experiences for campers with disabilities and their non-disabled peers in a safe\, welcoming\, and accessible environment! \nCamps will run in four week-long sessions- register for one or all four! Camp days will run from 9:00 am–3:00 pm\, Monday–Friday\, and include activities such as swimming\, archery\, axe throwing\, waterfront\, outdoor education\, and more!
URL:https://okcares.org/event/camp-commonground-inclusive-day-camp-3/
LOCATION:Camp Twin Cedars\, 1 Twin Cedar Ln\, Guthrie\, 73044\, United States
ATTACH;FMTTYPE=image/jpeg:https://okcares.org/wp-content/uploads/Summer-Camp.jpg
END:VEVENT
BEGIN:VEVENT
DTSTART;VALUE=DATE:20260629
DTEND;VALUE=DATE:20260704
DTSTAMP:20260423T125130
CREATED:20260327T212702Z
LAST-MODIFIED:20260327T212702Z
UID:5760-1782691200-1783123199@okcares.org
SUMMARY:Camp Commonground - Inclusive Day Camp
DESCRIPTION:CAMP COMMONGROUND\nBuilding Character. Building Community. \nJoin us for a daycamp experience unlike any other! Camp Commonground is designed to provide life-changing experiences for campers with disabilities and their non-disabled peers in a safe\, welcoming\, and accessible environment! \nCamps will run in four week-long sessions- register for one or all four! Camp days will run from 9:00 am–3:00 pm\, Monday–Friday\, and include activities such as swimming\, archery\, axe throwing\, waterfront\, outdoor education\, and more!
URL:https://okcares.org/event/camp-commonground-inclusive-day-camp-4/
LOCATION:Camp Twin Cedars\, 1 Twin Cedar Ln\, Guthrie\, 73044\, United States
ATTACH;FMTTYPE=image/jpeg:https://okcares.org/wp-content/uploads/Summer-Camp.jpg
END:VEVENT
END:VCALENDAR